BEGIN:VCALENDAR
VERSION:2.0
PRODID:-//Културно просветни центар &quot;Петровац на Млави&quot; - ECPv6.15.17//NONSGML v1.0//EN
CALSCALE:GREGORIAN
METHOD:PUBLISH
X-WR-CALNAME:Културно просветни центар &quot;Петровац на Млави&quot;
X-ORIGINAL-URL:https://kpcpetrovac.com
X-WR-CALDESC:Events for Културно просветни центар &quot;Петровац на Млави&quot;
REFRESH-INTERVAL;VALUE=DURATION:PT1H
X-Robots-Tag:noindex
X-PUBLISHED-TTL:PT1H
BEGIN:VTIMEZONE
TZID:Europe/Helsinki
BEGIN:DAYLIGHT
TZOFFSETFROM:+0200
TZOFFSETTO:+0300
TZNAME:EEST
DTSTART:20240331T010000
END:DAYLIGHT
BEGIN:STANDARD
TZOFFSETFROM:+0300
TZOFFSETTO:+0200
TZNAME:EET
DTSTART:20241027T010000
END:STANDARD
BEGIN:DAYLIGHT
TZOFFSETFROM:+0200
TZOFFSETTO:+0300
TZNAME:EEST
DTSTART:20250330T010000
END:DAYLIGHT
BEGIN:STANDARD
TZOFFSETFROM:+0300
TZOFFSETTO:+0200
TZNAME:EET
DTSTART:20251026T010000
END:STANDARD
BEGIN:DAYLIGHT
TZOFFSETFROM:+0200
TZOFFSETTO:+0300
TZNAME:EEST
DTSTART:20260329T010000
END:DAYLIGHT
BEGIN:STANDARD
TZOFFSETFROM:+0300
TZOFFSETTO:+0200
TZNAME:EET
DTSTART:20261025T010000
END:STANDARD
END:VTIMEZONE
BEGIN:VEVENT
DTSTART;TZID=Europe/Helsinki:20251113T200000
DTEND;TZID=Europe/Helsinki:20251113T220000
DTSTAMP:20260424T205710
CREATED:20251107T100507Z
LAST-MODIFIED:20251111T100941Z
UID:4804-1763064000-1763071200@kpcpetrovac.com
SUMMARY:Представа "ПРОФЕСИОНАЛАЦ"
DESCRIPTION:Четвртак 13. новембар 2025. године у 20.00 часова очекује вас позоришна представа „ПРОФЕСИОНАЛАЦ“ легендарног Душана Ковачевића у извођењу  позоришта „Миливоје Живановић“ из Пожаревца. \nОпис представе:Професионалац је српска позоришна представа коју је режирао Душан Ковачевић. Бата Стојковић је представу одиграо 416 пута од тога 138 пута на гостовањима\, коју је видело укупно 134.886 посетилаца. Представа је играна од 10. јануара 1990. до 13. фебруара 2002. године. Због велике популарности представе 2003. је сниман истоимени филм. \nЧланови Позоришта „Миливоје Живановић“ Центра за културу Пожаревац ће у четвртак \,14. новембра\, извести култну представу Душана Ковачевића „Професионалац“. \nКао Теодор Теја Крај наступа Владимир Јевремовић који је и редитељ овог комада док остале улоге играју: Никола Костадинов као Лука Лабан\, Ива Марија Ераковић као Марта и Александар Цветковић као Лудак. Глас жене дала је Весна Рајковић. \nСветло и тон Зоран Миладиновић\, избор музике Илија Рајковић\, организатор представе је Бојан Николић\, уредник Бојан Гачевић\, продуцент Галина Перић Павленко.
URL:https://kpcpetrovac.com/dogadjaj/predstava-profesionalac/
LOCATION:Позориште „Драгољуб Милосављевић Гула“\, Петра Добрњца 179\, Петровац на Млави
CATEGORIES:Позориште,Представе
ATTACH;FMTTYPE=image/jpeg:https://kpcpetrovac.com/wp-content/uploads/2025/11/profesionalac-kpc.jpg
ORGANIZER;CN="%D0%9A%D1%83%D0%BB%D1%82%D1%83%D1%80%D0%BD%D0%BE %D0%BF%D1%80%D0%BE%D1%81%D0%B2%D0%B5%D1%82%D0%BD%D0%B8 %D1%86%D0%B5%D0%BD%D1%82%D0%B0%D1%80 '%D0%9F%D0%B5%D1%82%D1%80%D0%BE%D0%B2%D0%B0%D1%86 %D0%BD%D0%B0 %D0%9C%D0%BB%D0%B0%D0%B2%D0%B8'":MAILTO:kpcpetrovac@gmail.com
END:VEVENT
BEGIN:VEVENT
DTSTART;TZID=Europe/Helsinki:20251118T200000
DTEND;TZID=Europe/Helsinki:20251118T220000
DTSTAMP:20260424T205710
CREATED:20251114T195852Z
LAST-MODIFIED:20251126T200024Z
UID:4808-1763496000-1763503200@kpcpetrovac.com
SUMMARY:Представа "ХАСАНАГИНИЦА"
DESCRIPTION:Уторак 18. новембар 2025. године у 20.00 часова одиграће се позоришна представа  „ХАСАНАГИНИЦА“ у извођењу  позоришта „ДРАГОЉУБ МИЛОСАВЉЕВИЋ ГУЛА“ из Петровца на Млави. \nБесплатне улазнице се могу преузети у Билет сервису биоскопа „Дело“ у периоду од 10.00 до 13.00 часова. \nВажна напомена: Места у сали су нумерисана\, резервација места важи до 20.00 часова\, а после тога слободна места попуњавамо. \nОпис представе:Текст:\nЉубомир Симовић \nРежија:\nМилош Јагодић \nУлоге:\nХАСАНАГИНИЦА – Милица Стојадиновић\nХАСАНАГА – Валентино Ољача\nБЕГ ПИНТОРОВИЋ – Јован Ивковић\nМАЈКА ПИНТОРОВИЋА – Сузана Станковић\nЕФЕНДИЈА ЈУСУФ – Срђан Мичић\nАХМЕД – Никола Бранковић\nСУЉО – Саша Радивојевић
URL:https://kpcpetrovac.com/dogadjaj/predstava-hasanaginica-5/
LOCATION:Позориште „Драгољуб Милосављевић Гула“\, Петра Добрњца 179\, Петровац на Млави
CATEGORIES:Позориште,Представе
ATTACH;FMTTYPE=image/jpeg:https://kpcpetrovac.com/wp-content/uploads/2025/11/kpc-hasanaginica.jpg
ORGANIZER;CN="%D0%9A%D1%83%D0%BB%D1%82%D1%83%D1%80%D0%BD%D0%BE %D0%BF%D1%80%D0%BE%D1%81%D0%B2%D0%B5%D1%82%D0%BD%D0%B8 %D1%86%D0%B5%D0%BD%D1%82%D0%B0%D1%80 '%D0%9F%D0%B5%D1%82%D1%80%D0%BE%D0%B2%D0%B0%D1%86 %D0%BD%D0%B0 %D0%9C%D0%BB%D0%B0%D0%B2%D0%B8'":MAILTO:kpcpetrovac@gmail.com
END:VEVENT
END:VCALENDAR