BEGIN:VCALENDAR
VERSION:2.0
PRODID:-//Културно просветни центар &quot;Петровац на Млави&quot; - ECPv6.15.17//NONSGML v1.0//EN
CALSCALE:GREGORIAN
METHOD:PUBLISH
X-WR-CALNAME:Културно просветни центар &quot;Петровац на Млави&quot;
X-ORIGINAL-URL:https://kpcpetrovac.com
X-WR-CALDESC:Events for Културно просветни центар &quot;Петровац на Млави&quot;
REFRESH-INTERVAL;VALUE=DURATION:PT1H
X-Robots-Tag:noindex
X-PUBLISHED-TTL:PT1H
BEGIN:VTIMEZONE
TZID:Europe/Helsinki
BEGIN:DAYLIGHT
TZOFFSETFROM:+0200
TZOFFSETTO:+0300
TZNAME:EEST
DTSTART:20240331T010000
END:DAYLIGHT
BEGIN:STANDARD
TZOFFSETFROM:+0300
TZOFFSETTO:+0200
TZNAME:EET
DTSTART:20241027T010000
END:STANDARD
BEGIN:DAYLIGHT
TZOFFSETFROM:+0200
TZOFFSETTO:+0300
TZNAME:EEST
DTSTART:20250330T010000
END:DAYLIGHT
BEGIN:STANDARD
TZOFFSETFROM:+0300
TZOFFSETTO:+0200
TZNAME:EET
DTSTART:20251026T010000
END:STANDARD
BEGIN:DAYLIGHT
TZOFFSETFROM:+0200
TZOFFSETTO:+0300
TZNAME:EEST
DTSTART:20260329T010000
END:DAYLIGHT
BEGIN:STANDARD
TZOFFSETFROM:+0300
TZOFFSETTO:+0200
TZNAME:EET
DTSTART:20261025T010000
END:STANDARD
END:VTIMEZONE
BEGIN:VEVENT
DTSTART;TZID=Europe/Helsinki:20251223T200000
DTEND;TZID=Europe/Helsinki:20251223T220000
DTSTAMP:20260424T193527
CREATED:20251223T151917Z
LAST-MODIFIED:20251223T151917Z
UID:4936-1766520000-1766527200@kpcpetrovac.com
SUMMARY:Музичко - поетско вече "ИМА НЕКА ТАЈНА ВЕЗА"
DESCRIPTION:Уторак 23. децембар 2025. године у 20.00 часова одржаће се музичко – поетско вече „ИМА НЕКА ТАЈНА ВЕЗА“\, а изводе га Горан Стевановић Ћине и Петар Митић Пеца. \nУлаз је слободан. \nОпис представе:
URL:https://kpcpetrovac.com/dogadjaj/muzicko-poetsko-vece-ima-neka-tajna-veza/
LOCATION:Дом културе\, Петра Добрњца 179\, Петровац на Млави
CATEGORIES:Позориште,Представе
ATTACH;FMTTYPE=image/jpeg:https://kpcpetrovac.com/wp-content/uploads/2025/12/ima-neka-tajna-veza.jpg
ORGANIZER;CN="%D0%9A%D1%83%D0%BB%D1%82%D1%83%D1%80%D0%BD%D0%BE %D0%BF%D1%80%D0%BE%D1%81%D0%B2%D0%B5%D1%82%D0%BD%D0%B8 %D1%86%D0%B5%D0%BD%D1%82%D0%B0%D1%80 '%D0%9F%D0%B5%D1%82%D1%80%D0%BE%D0%B2%D0%B0%D1%86 %D0%BD%D0%B0 %D0%9C%D0%BB%D0%B0%D0%B2%D0%B8'":MAILTO:kpcpetrovac@gmail.com
END:VEVENT
BEGIN:VEVENT
DTSTART;TZID=Europe/Helsinki:20251225T200000
DTEND;TZID=Europe/Helsinki:20251225T220000
DTSTAMP:20260424T193527
CREATED:20251223T151705Z
LAST-MODIFIED:20251223T151705Z
UID:4934-1766692800-1766700000@kpcpetrovac.com
SUMMARY:Представа "ЉУБИНКО И ДЕСАНКА"
DESCRIPTION:Четвртак 25. децембар 2025. године у 20.00 часова одиграће се позоришна представа  „ЉУБИНКО И ДЕСАНКА“ у извођењу  општинског аматерског позоришта „БРАНИСЛАВ НУШИЋ“ из Малог Црнића. \nУлаз је слободан. \nОпис представе:Текст:\nАлександар Поповић \nАдаптација и режија:\nДејан Цицмиловић \n„Љубинко и Десанка“ припадају кругу оних Поповићевих драма које\, уместо конкретне радње\, сликају делиће сложених односа међу људима\, то је комедија која говори о смешном троуглу\, једној девојци и два младића. \n„Љубинко и Десанка“ је први позоришни текст Александра Поповића\, а тим комадом је 1964.године отворена нова зграда Атељеа 212 у улици (тада) Лоле Рибара. Праизведба овог дела изазвале је у то време различите коментаре\, од свести да се појавило ново\, значајно име на плану српске драматургије\, па до потпуног негирања. \nПоповићев комад је фарса заснована на једноставној фабули\, али и дело које је већ тада наговестило специфичан књижевни и позоришни језик овог писца који ће се касније развити у пуном замаху. То је такође прича људи са маргине београдског живота који уз фарсичне елементе крећу се такође и у водама комедије апсурда.
URL:https://kpcpetrovac.com/dogadjaj/predstava-ljubinko-i-desanka/
LOCATION:Дом културе\, Петра Добрњца 179\, Петровац на Млави
CATEGORIES:Позориште,Представе
ATTACH;FMTTYPE=image/jpeg:https://kpcpetrovac.com/wp-content/uploads/2025/12/ljubinko-i-desanka.jpg
ORGANIZER;CN="%D0%9A%D1%83%D0%BB%D1%82%D1%83%D1%80%D0%BD%D0%BE %D0%BF%D1%80%D0%BE%D1%81%D0%B2%D0%B5%D1%82%D0%BD%D0%B8 %D1%86%D0%B5%D0%BD%D1%82%D0%B0%D1%80 '%D0%9F%D0%B5%D1%82%D1%80%D0%BE%D0%B2%D0%B0%D1%86 %D0%BD%D0%B0 %D0%9C%D0%BB%D0%B0%D0%B2%D0%B8'":MAILTO:kpcpetrovac@gmail.com
END:VEVENT
BEGIN:VEVENT
DTSTART;TZID=Europe/Helsinki:20251227T120000
DTEND;TZID=Europe/Helsinki:20251227T133000
DTSTAMP:20260424T193527
CREATED:20251223T144352Z
LAST-MODIFIED:20251223T144352Z
UID:4924-1766836800-1766842200@kpcpetrovac.com
SUMMARY:Представа за децу "КОФЕР ДЕЧИЈЕ РАДОСТИ"
DESCRIPTION:Сутобта 27. децембар 2025. године у 12.00 часова одиграће се позоришна представа  за децу „КОФЕР ДЕЧИЈЕ РАДОСТИ“ у извођењу  Едукативног театра Суботица. \nУлаз је бесплатан. \nОпис представе:
URL:https://kpcpetrovac.com/dogadjaj/predstava-za-decu-kofer-decije-radosti/
LOCATION:Дом културе\, Петра Добрњца 179\, Петровац на Млави
CATEGORIES:Позориште,Представе
ATTACH;FMTTYPE=image/jpeg:https://kpcpetrovac.com/wp-content/uploads/2025/12/kofer-decije-radosti.jpg
ORGANIZER;CN="%D0%9A%D1%83%D0%BB%D1%82%D1%83%D1%80%D0%BD%D0%BE %D0%BF%D1%80%D0%BE%D1%81%D0%B2%D0%B5%D1%82%D0%BD%D0%B8 %D1%86%D0%B5%D0%BD%D1%82%D0%B0%D1%80 '%D0%9F%D0%B5%D1%82%D1%80%D0%BE%D0%B2%D0%B0%D1%86 %D0%BD%D0%B0 %D0%9C%D0%BB%D0%B0%D0%B2%D0%B8'":MAILTO:kpcpetrovac@gmail.com
END:VEVENT
END:VCALENDAR