BEGIN:VCALENDAR
VERSION:2.0
PRODID:-//Културно просветни центар &quot;Петровац на Млави&quot; - ECPv6.15.17//NONSGML v1.0//EN
CALSCALE:GREGORIAN
METHOD:PUBLISH
X-ORIGINAL-URL:https://kpcpetrovac.com
X-WR-CALDESC:Events for Културно просветни центар &quot;Петровац на Млави&quot;
REFRESH-INTERVAL;VALUE=DURATION:PT1H
X-Robots-Tag:noindex
X-PUBLISHED-TTL:PT1H
BEGIN:VTIMEZONE
TZID:Europe/Helsinki
BEGIN:DAYLIGHT
TZOFFSETFROM:+0200
TZOFFSETTO:+0300
TZNAME:EEST
DTSTART:20230326T010000
END:DAYLIGHT
BEGIN:STANDARD
TZOFFSETFROM:+0300
TZOFFSETTO:+0200
TZNAME:EET
DTSTART:20231029T010000
END:STANDARD
BEGIN:DAYLIGHT
TZOFFSETFROM:+0200
TZOFFSETTO:+0300
TZNAME:EEST
DTSTART:20240331T010000
END:DAYLIGHT
BEGIN:STANDARD
TZOFFSETFROM:+0300
TZOFFSETTO:+0200
TZNAME:EET
DTSTART:20241027T010000
END:STANDARD
BEGIN:DAYLIGHT
TZOFFSETFROM:+0200
TZOFFSETTO:+0300
TZNAME:EEST
DTSTART:20250330T010000
END:DAYLIGHT
BEGIN:STANDARD
TZOFFSETFROM:+0300
TZOFFSETTO:+0200
TZNAME:EET
DTSTART:20251026T010000
END:STANDARD
END:VTIMEZONE
BEGIN:VEVENT
DTSTART;TZID=Europe/Helsinki:20241210T200000
DTEND;TZID=Europe/Helsinki:20241210T220000
DTSTAMP:20260425T145136
CREATED:20241205T152029Z
LAST-MODIFIED:20241210T152317Z
UID:4691-1733860800-1733868000@kpcpetrovac.com
SUMMARY:Представа "ПРИЧА О ЈЕДНОМ ЛЕТОВАЊУ"
DESCRIPTION:Уторак 10. децембар 2024. године у 20.00 часова одиграће се позоришна представа  „ПРИЧА О ЈЕДНОМ ЛЕТОВАЊУ“ у извођењу  рачанског позоришта Културног центра „РАДОЈЕ ДОМАНОВИЋ“ из општине Рача. \nБесплатне улазнице се могу преузети у Билет сервису биоскопа „Дело“ у периоду од 10.00 до 13.00 часова. \nВажна напомена: Места у сали су нумерисана\, резервација места важи до 20.00 часова\, а после тога слободна места попуњавамо. \nОпис представе:Текст:Тиса Милић \nРежија:Дејан Цицмиловић \nУлоге: \n 
URL:https://kpcpetrovac.com/dogadjaj/predstava-prica-o-jednom-letovanju/
LOCATION:Позориште „Драгољуб Милосављевић Гула“\, Петра Добрњца 179\, Петровац на Млави
CATEGORIES:Позориште,Представе
ATTACH;FMTTYPE=image/jpeg:https://kpcpetrovac.com/wp-content/uploads/2024/12/prica-o-jednom-letovanju-kpc.jpg
ORGANIZER;CN="%D0%9A%D1%83%D0%BB%D1%82%D1%83%D1%80%D0%BD%D0%BE %D0%BF%D1%80%D0%BE%D1%81%D0%B2%D0%B5%D1%82%D0%BD%D0%B8 %D1%86%D0%B5%D0%BD%D1%82%D0%B0%D1%80 '%D0%9F%D0%B5%D1%82%D1%80%D0%BE%D0%B2%D0%B0%D1%86 %D0%BD%D0%B0 %D0%9C%D0%BB%D0%B0%D0%B2%D0%B8'":MAILTO:kpcpetrovac@gmail.com
END:VEVENT
BEGIN:VEVENT
DTSTART;TZID=Europe/Helsinki:20241225T200000
DTEND;TZID=Europe/Helsinki:20241225T220000
DTSTAMP:20260425T145136
CREATED:20241220T182214Z
LAST-MODIFIED:20241225T182458Z
UID:4695-1735156800-1735164000@kpcpetrovac.com
SUMMARY:Представа "ХАСАНАГИНИЦА"
DESCRIPTION:Понедељак 07. октобар 2024. године у 20.00 часова одиграће се позоришна представа  „ХАСАНАГИНИЦА“ у извођењу  позоришта „ДРАГОЉУБ МИЛОСАВЉЕВИЋ ГУЛА“ из Петровца на Млави. \nПредстава је ХУМАНИТАРНОГ карактера\, а сва прикупљена средства иду за ИВАНА ВУЈОВИЋА! \nБесплатне улазнице се могу преузети у Билет сервису биоскопа „Дело“ у периоду од 10.00 до 13.00 часова. \nВажна напомена: Места у сали су нумерисана\, резервација места важи до 20.00 часова\, а после тога слободна места попуњавамо. \nОпис представе:Текст:\nЉубомир Симовић \nРежија:\nМилош Јагодић \nУлоге:\nХАСАНАГИНИЦА – Милица Стојадиновић\nХАСАНАГА – Валентино Ољача\nБЕГ ПИНТОРОВИЋ – Јован Ивковић\nМАЈКА ПИНТОРОВИЋА – Сузана Станковић\nЕФЕНДИЈА ЈУСУФ – Срђан Мичић\nАХМЕД – Никола Бранковић\nСУЉО – Саша Радивојевић
URL:https://kpcpetrovac.com/dogadjaj/predstava-hasanaginica-4/
LOCATION:Позориште „Драгољуб Милосављевић Гула“\, Петра Добрњца 179\, Петровац на Млави
CATEGORIES:Позориште,Представе
ATTACH;FMTTYPE=image/jpeg:https://kpcpetrovac.com/wp-content/uploads/2024/12/hasanaginica.jpg
ORGANIZER;CN="%D0%9A%D1%83%D0%BB%D1%82%D1%83%D1%80%D0%BD%D0%BE %D0%BF%D1%80%D0%BE%D1%81%D0%B2%D0%B5%D1%82%D0%BD%D0%B8 %D1%86%D0%B5%D0%BD%D1%82%D0%B0%D1%80 '%D0%9F%D0%B5%D1%82%D1%80%D0%BE%D0%B2%D0%B0%D1%86 %D0%BD%D0%B0 %D0%9C%D0%BB%D0%B0%D0%B2%D0%B8'":MAILTO:kpcpetrovac@gmail.com
END:VEVENT
BEGIN:VEVENT
DTSTART;TZID=Europe/Helsinki:20241227T190000
DTEND;TZID=Europe/Helsinki:20241227T210000
DTSTAMP:20260425T145136
CREATED:20241220T182814Z
LAST-MODIFIED:20241225T183058Z
UID:4702-1735326000-1735333200@kpcpetrovac.com
SUMMARY:Представа "НОВОГОДИШЊЕ АВАНТУРЕ ПРИНЦА ЛУЛЕТА"
DESCRIPTION:Петак 27. децембар 2024. године у 19.00 часова одиграће се дечија позоришна представа  „НОВОГОДИШЊЕ АВАНТУРЕ ПРИНЦА ЛУЛЕТА“ у извођењу Центра за културу Смедерево \nБесплатне улазнице се могу преузети у Билет сервису биоскопа „Дело“ у периоду од 10.00 до 13.00 часова. \nВажна напомена: Места у сали су нумерисана\, резервација места важи до 19.00 часова\, а после тога слободна места попуњавамо. \nОпис представе:Незадовољан стањем у свом краљевству у ком се деца више не играју\, а Деда Мраз разочаран том чињеницом више не шаље поклоне и не слави Нову годину\, краљ шаље свог сина\, принца Лулета\, у земљу Бајковију да пронађе најбоље дете и одобровољи успаваног Деда Мраза како не би пропао велики Новогодишњи бал и како би поново припремио поклоне деци из читавог света. У Бајковији Луле наилази на две девојчице\, маца Јецу и лептирицу Нађу са којима креће у велику новогодишњу авантуру. Кроз маштовиту игру\, велико надигравање у разним дисциплинама\, њих троје успевају да пробуде Деда Мраза да дође на велики Новогодишњи бал са ког ће послати поклоне свој доброј деци. \nУлоге: \nПринц Луле – Лука Севић \nМаца Јеца – Јелена Матијашевић \nЛептирица Нађа – Нађа Маршићевић \nДеда Мраз – Цветин Аничић \nМузички бенд прати представу уживо.
URL:https://kpcpetrovac.com/dogadjaj/predstava-novogodisnje-avanture-princa-luleta/
LOCATION:Позориште „Драгољуб Милосављевић Гула“\, Петра Добрњца 179\, Петровац на Млави
CATEGORIES:Позориште,Представе
ATTACH;FMTTYPE=image/jpeg:https://kpcpetrovac.com/wp-content/uploads/2024/12/princ-lule.jpg
ORGANIZER;CN="%D0%9A%D1%83%D0%BB%D1%82%D1%83%D1%80%D0%BD%D0%BE %D0%BF%D1%80%D0%BE%D1%81%D0%B2%D0%B5%D1%82%D0%BD%D0%B8 %D1%86%D0%B5%D0%BD%D1%82%D0%B0%D1%80 '%D0%9F%D0%B5%D1%82%D1%80%D0%BE%D0%B2%D0%B0%D1%86 %D0%BD%D0%B0 %D0%9C%D0%BB%D0%B0%D0%B2%D0%B8'":MAILTO:kpcpetrovac@gmail.com
END:VEVENT
END:VCALENDAR