BEGIN:VCALENDAR
VERSION:2.0
PRODID:-//Културно просветни центар &quot;Петровац на Млави&quot; - ECPv6.15.17//NONSGML v1.0//EN
CALSCALE:GREGORIAN
METHOD:PUBLISH
X-WR-CALNAME:Културно просветни центар &quot;Петровац на Млави&quot;
X-ORIGINAL-URL:https://kpcpetrovac.com
X-WR-CALDESC:Events for Културно просветни центар &quot;Петровац на Млави&quot;
REFRESH-INTERVAL;VALUE=DURATION:PT1H
X-Robots-Tag:noindex
X-PUBLISHED-TTL:PT1H
BEGIN:VTIMEZONE
TZID:Europe/Helsinki
BEGIN:DAYLIGHT
TZOFFSETFROM:+0200
TZOFFSETTO:+0300
TZNAME:EEST
DTSTART:20230326T010000
END:DAYLIGHT
BEGIN:STANDARD
TZOFFSETFROM:+0300
TZOFFSETTO:+0200
TZNAME:EET
DTSTART:20231029T010000
END:STANDARD
BEGIN:DAYLIGHT
TZOFFSETFROM:+0200
TZOFFSETTO:+0300
TZNAME:EEST
DTSTART:20240331T010000
END:DAYLIGHT
BEGIN:STANDARD
TZOFFSETFROM:+0300
TZOFFSETTO:+0200
TZNAME:EET
DTSTART:20241027T010000
END:STANDARD
BEGIN:DAYLIGHT
TZOFFSETFROM:+0200
TZOFFSETTO:+0300
TZNAME:EEST
DTSTART:20250330T010000
END:DAYLIGHT
BEGIN:STANDARD
TZOFFSETFROM:+0300
TZOFFSETTO:+0200
TZNAME:EET
DTSTART:20251026T010000
END:STANDARD
END:VTIMEZONE
BEGIN:VEVENT
DTSTART;TZID=Europe/Helsinki:20241007T200000
DTEND;TZID=Europe/Helsinki:20241007T220000
DTSTAMP:20260425T180227
CREATED:20241002T083914Z
LAST-MODIFIED:20241004T084030Z
UID:4675-1728331200-1728338400@kpcpetrovac.com
SUMMARY:Представа "ХАСАНАГИНИЦА"
DESCRIPTION:Понедељак 07. октобар 2024. године у 20.00 часова одиграће се позоришна представа  „ХАСАНАГИНИЦА“ у извођењу  позоришта „ДРАГОЉУБ МИЛОСАВЉЕВИЋ ГУЛА“ из Петровца на Млави. \nБесплатне улазнице се могу преузети у Билет сервису биоскопа „Дело“ у периоду од 10.00 до 13.00 часова. \nВажна напомена: Места у сали су нумерисана\, резервација места важи до 20.00 часова\, а после тога слободна места попуњавамо. \nОпис представе:Текст:\nЉубомир Симовић \nРежија:\nМилош Јагодић \nУлоге:\nХАСАНАГИНИЦА – Милица Стојадиновић\nХАСАНАГА – Валентино Ољача\nБЕГ ПИНТОРОВИЋ – Јован Ивковић\nМАЈКА ПИНТОРОВИЋА – Сузана Станковић\nЕФЕНДИЈА ЈУСУФ – Срђан Мичић\nАХМЕД – Никола Бранковић\nСУЉО – Саша Радивојевић
URL:https://kpcpetrovac.com/dogadjaj/predstava-hasanaginica-3/
LOCATION:Позориште „Драгољуб Милосављевић Гула“\, Петра Добрњца 179\, Петровац на Млави
CATEGORIES:Позориште,Представе
ATTACH;FMTTYPE=image/jpeg:https://kpcpetrovac.com/wp-content/uploads/2024/10/hasanaginica.jpg
ORGANIZER;CN="%D0%9A%D1%83%D0%BB%D1%82%D1%83%D1%80%D0%BD%D0%BE %D0%BF%D1%80%D0%BE%D1%81%D0%B2%D0%B5%D1%82%D0%BD%D0%B8 %D1%86%D0%B5%D0%BD%D1%82%D0%B0%D1%80 '%D0%9F%D0%B5%D1%82%D1%80%D0%BE%D0%B2%D0%B0%D1%86 %D0%BD%D0%B0 %D0%9C%D0%BB%D0%B0%D0%B2%D0%B8'":MAILTO:kpcpetrovac@gmail.com
END:VEVENT
BEGIN:VEVENT
DTSTART;TZID=Europe/Helsinki:20241028T200000
DTEND;TZID=Europe/Helsinki:20241028T220000
DTSTAMP:20260425T180227
CREATED:20241020T130558Z
LAST-MODIFIED:20241109T141022Z
UID:4679-1730145600-1730152800@kpcpetrovac.com
SUMMARY:Представа "НОРМАЛАН\, А ЛУД"
DESCRIPTION:Понедељак 28. октобар 2024. године у 20.00 часова одиграће се позоришна представа  „НОРМАЛАН\, А ЛУД“ у извођењу  позоришта „МИЛИВОЈЕ ЖИВАНОВИЋ“ из Пожаревца. \nБесплатне улазнице се могу преузети у Билет сервису биоскопа „Дело“ у периоду од 10.00 до 13.00 часова. \nВажна напомена: Места у сали су нумерисана\, резервација места важи до 20.00 часова\, а после тога слободна места попуњавамо. \nОпис представе:Текст и режија:\nВладимир Ђорђевић \nУлоге:\nВалентино Ољача/Др МИЛАН СТОЈАНОВИЋ\nБојан Николић/ВРАПЧЕ\nЈелена Трифуновић Илић/СМИЉКА\nМарко Васиљевић/МИЛОШ ЈАКОВЉЕВИЋ\nМирослав Милутиновић/НЕБОЈША ВАСИЋ\nСара Траиловић/СУПРУГА ДР МИЛАНА\nПавла Станковић/ЋЕРКА ДР МИЛАНА\nБогдан Станковић/СИН Др МИЛАНА\nЗоран Живковић/РАЛЕ\, ОТАЦ ДР МИЛАНА\nДрагана Костић Милутиновић/ДРАГА\, МАЈКА Др МИЛАНА\nМарија Вајнер/МЕД. СЕСТРА МИРА\nМарија Перић/МЕД. СЕСТРА РОЗИ \n 
URL:https://kpcpetrovac.com/dogadjaj/predstava-normalan-a-lud/
LOCATION:Позориште „Драгољуб Милосављевић Гула“\, Петра Добрњца 179\, Петровац на Млави
CATEGORIES:Позориште,Представе
ATTACH;FMTTYPE=image/jpeg:https://kpcpetrovac.com/wp-content/uploads/2024/11/normalan-a-lud-kpc.jpg
ORGANIZER;CN="%D0%9A%D1%83%D0%BB%D1%82%D1%83%D1%80%D0%BD%D0%BE %D0%BF%D1%80%D0%BE%D1%81%D0%B2%D0%B5%D1%82%D0%BD%D0%B8 %D1%86%D0%B5%D0%BD%D1%82%D0%B0%D1%80 '%D0%9F%D0%B5%D1%82%D1%80%D0%BE%D0%B2%D0%B0%D1%86 %D0%BD%D0%B0 %D0%9C%D0%BB%D0%B0%D0%B2%D0%B8'":MAILTO:kpcpetrovac@gmail.com
END:VEVENT
END:VCALENDAR