BEGIN:VCALENDAR
VERSION:2.0
PRODID:-//Културно просветни центар &quot;Петровац на Млави&quot; - ECPv6.15.17//NONSGML v1.0//EN
CALSCALE:GREGORIAN
METHOD:PUBLISH
X-ORIGINAL-URL:https://kpcpetrovac.com
X-WR-CALDESC:Events for Културно просветни центар &quot;Петровац на Млави&quot;
REFRESH-INTERVAL;VALUE=DURATION:PT1H
X-Robots-Tag:noindex
X-PUBLISHED-TTL:PT1H
BEGIN:VTIMEZONE
TZID:Europe/Helsinki
BEGIN:DAYLIGHT
TZOFFSETFROM:+0200
TZOFFSETTO:+0300
TZNAME:EEST
DTSTART:20230326T010000
END:DAYLIGHT
BEGIN:STANDARD
TZOFFSETFROM:+0300
TZOFFSETTO:+0200
TZNAME:EET
DTSTART:20231029T010000
END:STANDARD
BEGIN:DAYLIGHT
TZOFFSETFROM:+0200
TZOFFSETTO:+0300
TZNAME:EEST
DTSTART:20240331T010000
END:DAYLIGHT
BEGIN:STANDARD
TZOFFSETFROM:+0300
TZOFFSETTO:+0200
TZNAME:EET
DTSTART:20241027T010000
END:STANDARD
BEGIN:DAYLIGHT
TZOFFSETFROM:+0200
TZOFFSETTO:+0300
TZNAME:EEST
DTSTART:20250330T010000
END:DAYLIGHT
BEGIN:STANDARD
TZOFFSETFROM:+0300
TZOFFSETTO:+0200
TZNAME:EET
DTSTART:20251026T010000
END:STANDARD
END:VTIMEZONE
BEGIN:VEVENT
DTSTART;TZID=Europe/Helsinki:20240602T170000
DTEND;TZID=Europe/Helsinki:20240602T200000
DTSTAMP:20260423T025104
CREATED:20240528T094002Z
LAST-MODIFIED:20240531T133022Z
UID:4627-1717347600-1717358400@kpcpetrovac.com
SUMMARY:"4. ФЕСТИВАЛ ФОЛКЛОРА"
DESCRIPTION:Недеља 02. јун 2024. године од 17.00 часова одржаће се  „4. ФЕСТИВАЛ ФОЛКЛОРА“ општине Петровац на Млави. \nМанифестација се одржава на летњој позорници КПЦ-а. \nПродаја улазница је свим радним данима на Билет сервису биоскопа „Дело“ у периоду од 10.00 до 14.00 часова. \nВажна напомена: Представа је хуманитарног карактера\, а  цена улазнице је 300 динара. \nОпис:
URL:https://kpcpetrovac.com/dogadjaj/4-festival-folklora/
LOCATION:Позориште „Драгољуб Милосављевић Гула“\, Петра Добрњца 179\, Петровац на Млави
CATEGORIES:Летња сцена
ATTACH;FMTTYPE=image/jpeg:https://kpcpetrovac.com/wp-content/uploads/2024/05/4-festival-folklora-kpc.jpg
ORGANIZER;CN="%D0%9A%D1%83%D0%BB%D1%82%D1%83%D1%80%D0%BD%D0%BE %D0%BF%D1%80%D0%BE%D1%81%D0%B2%D0%B5%D1%82%D0%BD%D0%B8 %D1%86%D0%B5%D0%BD%D1%82%D0%B0%D1%80 '%D0%9F%D0%B5%D1%82%D1%80%D0%BE%D0%B2%D0%B0%D1%86 %D0%BD%D0%B0 %D0%9C%D0%BB%D0%B0%D0%B2%D0%B8'":MAILTO:kpcpetrovac@gmail.com
END:VEVENT
END:VCALENDAR