BEGIN:VCALENDAR
VERSION:2.0
PRODID:-//Културно просветни центар &quot;Петровац на Млави&quot; - ECPv6.15.17//NONSGML v1.0//EN
CALSCALE:GREGORIAN
METHOD:PUBLISH
X-ORIGINAL-URL:https://kpcpetrovac.com
X-WR-CALDESC:Events for Културно просветни центар &quot;Петровац на Млави&quot;
REFRESH-INTERVAL;VALUE=DURATION:PT1H
X-Robots-Tag:noindex
X-PUBLISHED-TTL:PT1H
BEGIN:VTIMEZONE
TZID:Europe/Helsinki
BEGIN:DAYLIGHT
TZOFFSETFROM:+0200
TZOFFSETTO:+0300
TZNAME:EEST
DTSTART:20230326T010000
END:DAYLIGHT
BEGIN:STANDARD
TZOFFSETFROM:+0300
TZOFFSETTO:+0200
TZNAME:EET
DTSTART:20231029T010000
END:STANDARD
BEGIN:DAYLIGHT
TZOFFSETFROM:+0200
TZOFFSETTO:+0300
TZNAME:EEST
DTSTART:20240331T010000
END:DAYLIGHT
BEGIN:STANDARD
TZOFFSETFROM:+0300
TZOFFSETTO:+0200
TZNAME:EET
DTSTART:20241027T010000
END:STANDARD
BEGIN:DAYLIGHT
TZOFFSETFROM:+0200
TZOFFSETTO:+0300
TZNAME:EEST
DTSTART:20250330T010000
END:DAYLIGHT
BEGIN:STANDARD
TZOFFSETFROM:+0300
TZOFFSETTO:+0200
TZNAME:EET
DTSTART:20251026T010000
END:STANDARD
END:VTIMEZONE
BEGIN:VEVENT
DTSTART;TZID=Europe/Helsinki:20241123T160000
DTEND;TZID=Europe/Helsinki:20241123T180000
DTSTAMP:20260426T043741
CREATED:20241115T165128Z
LAST-MODIFIED:20241120T165452Z
UID:4687-1732377600-1732384800@kpcpetrovac.com
SUMMARY:Анимирани филм "КЛИНЦИ КАУБОЈЦИ"
DESCRIPTION:Субота 23. новембар 2024. године у  16.00 часова\, анимирани цртани филм „КЛИНЦИ КАУБОЈЦИ“. \nПродаја улазница на билетарници биоскопа „ДЕЛО“ од 10-14 часова. \nЦена улазнице 400 динара. \nОпис филма:Двоје ирских сирочади креће на узбудљиво путовање возом у Њујорк како би упознали свога ујака и затражили његово наследство. Док стичу пријатеља у гувернанти која брине о другој групи деце\, суочавају са са изненадним нападом бандита.
URL:https://kpcpetrovac.com/dogadjaj/animirani-film-klinci-kaubojci/
LOCATION:Биоскоп „Дело“\, Српских владара\, Петровац на Млави
CATEGORIES:Биоскоп,Филмови
ATTACH;FMTTYPE=image/jpeg:https://kpcpetrovac.com/wp-content/uploads/2024/11/klinci-kaubojci.jpg
ORGANIZER;CN="%D0%9A%D1%83%D0%BB%D1%82%D1%83%D1%80%D0%BD%D0%BE %D0%BF%D1%80%D0%BE%D1%81%D0%B2%D0%B5%D1%82%D0%BD%D0%B8 %D1%86%D0%B5%D0%BD%D1%82%D0%B0%D1%80 '%D0%9F%D0%B5%D1%82%D1%80%D0%BE%D0%B2%D0%B0%D1%86 %D0%BD%D0%B0 %D0%9C%D0%BB%D0%B0%D0%B2%D0%B8'":MAILTO:kpcpetrovac@gmail.com
END:VEVENT
BEGIN:VEVENT
DTSTART;TZID=Europe/Helsinki:20241123T180000
DTEND;TZID=Europe/Helsinki:20241123T220000
DTSTAMP:20260426T043741
CREATED:20241115T164707Z
LAST-MODIFIED:20241120T165506Z
UID:4684-1732384800-1732399200@kpcpetrovac.com
SUMMARY:Играни филм "ИЗОЛАЦИЈА"
DESCRIPTION:Субота 23. новембар 2024. године у  18.00 и 20.00 часова\, играни филм „ИЗОЛАЦИЈА“. У главним улогама – Милош Биковић и Милена Предић. \nПродаја улазница на билетарници биоскопа „ДЕЛО“ од 10-14 часова. \nЦена улазнице 400 динара. \nОпис филма:Ова филмска прича која оставља без даха\, води нас у забачену научну станицу\, смештену у напуштеним шумским дубинама\, у коју стиже истраживач Јован (Милош Биковић)\, како би се бавио проучавањем дивљих животиња. На почетку\, самоћа му се чини као идеалан бег од цивилизације\, али убрзо почињу да га узнемиравају необјашњиви догађаји. Како време пролази\, Јован постаје свестан да није сам. \nРежија:\nМарко Бацковић \nИграју:\nМилош Биковић\, Миодраг Мики Крстовић\, Милена Предић\, Милутин Дапчевић\, Младен Андрејевић\, Марко Мак Пантелић\, Анђела Јовановић\, Алиса Лацко.
URL:https://kpcpetrovac.com/dogadjaj/igrani-film-izolacija/
LOCATION:Биоскоп „Дело“\, Српских владара\, Петровац на Млави
CATEGORIES:Биоскоп,Филмови
ATTACH;FMTTYPE=image/jpeg:https://kpcpetrovac.com/wp-content/uploads/2024/11/izolacija.jpg
ORGANIZER;CN="%D0%9A%D1%83%D0%BB%D1%82%D1%83%D1%80%D0%BD%D0%BE %D0%BF%D1%80%D0%BE%D1%81%D0%B2%D0%B5%D1%82%D0%BD%D0%B8 %D1%86%D0%B5%D0%BD%D1%82%D0%B0%D1%80 '%D0%9F%D0%B5%D1%82%D1%80%D0%BE%D0%B2%D0%B0%D1%86 %D0%BD%D0%B0 %D0%9C%D0%BB%D0%B0%D0%B2%D0%B8'":MAILTO:kpcpetrovac@gmail.com
END:VEVENT
END:VCALENDAR