BEGIN:VCALENDAR
VERSION:2.0
PRODID:-//Културно просветни центар &quot;Петровац на Млави&quot; - ECPv6.15.17//NONSGML v1.0//EN
CALSCALE:GREGORIAN
METHOD:PUBLISH
X-WR-CALNAME:Културно просветни центар &quot;Петровац на Млави&quot;
X-ORIGINAL-URL:https://kpcpetrovac.com
X-WR-CALDESC:Events for Културно просветни центар &quot;Петровац на Млави&quot;
REFRESH-INTERVAL;VALUE=DURATION:PT1H
X-Robots-Tag:noindex
X-PUBLISHED-TTL:PT1H
BEGIN:VTIMEZONE
TZID:Europe/Helsinki
BEGIN:DAYLIGHT
TZOFFSETFROM:+0200
TZOFFSETTO:+0300
TZNAME:EEST
DTSTART:20230326T010000
END:DAYLIGHT
BEGIN:STANDARD
TZOFFSETFROM:+0300
TZOFFSETTO:+0200
TZNAME:EET
DTSTART:20231029T010000
END:STANDARD
BEGIN:DAYLIGHT
TZOFFSETFROM:+0200
TZOFFSETTO:+0300
TZNAME:EEST
DTSTART:20240331T010000
END:DAYLIGHT
BEGIN:STANDARD
TZOFFSETFROM:+0300
TZOFFSETTO:+0200
TZNAME:EET
DTSTART:20241027T010000
END:STANDARD
BEGIN:DAYLIGHT
TZOFFSETFROM:+0200
TZOFFSETTO:+0300
TZNAME:EEST
DTSTART:20250330T010000
END:DAYLIGHT
BEGIN:STANDARD
TZOFFSETFROM:+0300
TZOFFSETTO:+0200
TZNAME:EET
DTSTART:20251026T010000
END:STANDARD
END:VTIMEZONE
BEGIN:VEVENT
DTSTART;TZID=Europe/Helsinki:20241008T180000
DTEND;TZID=Europe/Helsinki:20241008T200000
DTSTAMP:20260426T045705
CREATED:20241004T083858Z
LAST-MODIFIED:20241004T083858Z
UID:4671-1728410400-1728417600@kpcpetrovac.com
SUMMARY:Анимирани филм "У МОЈОЈ ГЛАВИ 2"
DESCRIPTION:Уторак 08. октобар 2024. године у  18.00 часова\, анимирани цртани филм „У МОЈОЈ ГЛАВИ 2“. Наставак узбудљивог цртаћа нам стиже… \nПродаја улазница на билетарници биоскопа „ДЕЛО“ од 10-14 часова. \nЦена улазнице 400 динара. \nОпис филма:Дизни и Пиxар поново завирују у ум тинејџерке Рајли. Гласићи у њеној глави познају је врло добро\, међутим промене су извесне и то баш у тренутку када главна команда почне изненада да се руши како би се направио простор за нешто потпуно неочекивано\, Нову емоцију! Дотадашња Радост\, Туга\, Бес\, Страх и Гађење\, који успешно воде операцију на свим нивоима\, нису сигурни како се осећају када се пред њима појави Анксиозност. Делује као да она није сама. \nЖанр: фантастика\, комедија \nГлумци: Ејми Полер\, Маја Хок\, Кенсингтон Толман\, Лајза Лапира\, Тони Хејл\, Луис Блек\, Филис Смит\, Ајо Едебири \nРежисер: Келси Мен
URL:https://kpcpetrovac.com/dogadjaj/animirani-film-u-mojoj-glavi-2/
LOCATION:Биоскоп „Дело“\, Српских владара\, Петровац на Млави
CATEGORIES:Биоскоп,Филмови
ATTACH;FMTTYPE=image/jpeg:https://kpcpetrovac.com/wp-content/uploads/2024/10/u-mojoj-glavi-2.jpg
ORGANIZER;CN="%D0%9A%D1%83%D0%BB%D1%82%D1%83%D1%80%D0%BD%D0%BE %D0%BF%D1%80%D0%BE%D1%81%D0%B2%D0%B5%D1%82%D0%BD%D0%B8 %D1%86%D0%B5%D0%BD%D1%82%D0%B0%D1%80 '%D0%9F%D0%B5%D1%82%D1%80%D0%BE%D0%B2%D0%B0%D1%86 %D0%BD%D0%B0 %D0%9C%D0%BB%D0%B0%D0%B2%D0%B8'":MAILTO:kpcpetrovac@gmail.com
END:VEVENT
BEGIN:VEVENT
DTSTART;TZID=Europe/Helsinki:20241008T200000
DTEND;TZID=Europe/Helsinki:20241008T223000
DTSTAMP:20260426T045705
CREATED:20241004T083324Z
LAST-MODIFIED:20241004T083417Z
UID:4666-1728417600-1728426600@kpcpetrovac.com
SUMMARY:Играни филм "МЕГДАН"
DESCRIPTION:Уторак 08. октобар 2024. године у  20.00 часова\, играни филм „МЕГДАН“. У главним улогама – Виктор Савић\, Енис Бешлагић и Нина Сеничар. \nПродаја улазница на билетарници биоскопа „ДЕЛО“ од 10-14 часова. \nЦена улазнице 400 динара. \nОпис филма:Ова прича прати чувара дискотеке који је при крају своје борилачке каријере\, али има и морални дуг из прошлости који долази на наплату. Некадашња ватерполо звезда Петар креће у игру са високим улозима како би спасао свој ватерполо клуб од пропадања. Док рони све дубље у балканско подземље\, Петар открива да је линија између победе и пораза танка. Драма о групи момака који морају да бирају између воде и ватре\, али желе да задрже обоје… \nЖанр: комедија\, спортска драма \nГлумци: Виктор Савић\, Енис Бешлагић\, Војин Ћетковић\, Нина Сеничар\, Александар Радојичић\, Јована Балашевић\, Петар Божовић\, Александар Гавранић\, Васо Бакочевић\, Маја Беровић\, Душан Џакић\, Ион Бечте\, Генадиј Бојаркин\, Благој Веселинов\, Ива Крајнц \nРежисер: Тодор Чапканов
URL:https://kpcpetrovac.com/dogadjaj/igrani-film-megdan/
LOCATION:Биоскоп „Дело“\, Српских владара\, Петровац на Млави
CATEGORIES:Биоскоп,Филмови
ATTACH;FMTTYPE=image/jpeg:https://kpcpetrovac.com/wp-content/uploads/2024/10/megdan.jpg
ORGANIZER;CN="%D0%9A%D1%83%D0%BB%D1%82%D1%83%D1%80%D0%BD%D0%BE %D0%BF%D1%80%D0%BE%D1%81%D0%B2%D0%B5%D1%82%D0%BD%D0%B8 %D1%86%D0%B5%D0%BD%D1%82%D0%B0%D1%80 '%D0%9F%D0%B5%D1%82%D1%80%D0%BE%D0%B2%D0%B0%D1%86 %D0%BD%D0%B0 %D0%9C%D0%BB%D0%B0%D0%B2%D0%B8'":MAILTO:kpcpetrovac@gmail.com
END:VEVENT
END:VCALENDAR