BEGIN:VCALENDAR
VERSION:2.0
PRODID:-//Културно просветни центар &quot;Петровац на Млави&quot; - ECPv6.15.17//NONSGML v1.0//EN
CALSCALE:GREGORIAN
METHOD:PUBLISH
X-WR-CALNAME:Културно просветни центар &quot;Петровац на Млави&quot;
X-ORIGINAL-URL:https://kpcpetrovac.com
X-WR-CALDESC:Events for Културно просветни центар &quot;Петровац на Млави&quot;
REFRESH-INTERVAL;VALUE=DURATION:PT1H
X-Robots-Tag:noindex
X-PUBLISHED-TTL:PT1H
BEGIN:VTIMEZONE
TZID:Europe/Helsinki
BEGIN:DAYLIGHT
TZOFFSETFROM:+0200
TZOFFSETTO:+0300
TZNAME:EEST
DTSTART:20250330T010000
END:DAYLIGHT
BEGIN:STANDARD
TZOFFSETFROM:+0300
TZOFFSETTO:+0200
TZNAME:EET
DTSTART:20251026T010000
END:STANDARD
BEGIN:DAYLIGHT
TZOFFSETFROM:+0200
TZOFFSETTO:+0300
TZNAME:EEST
DTSTART:20260329T010000
END:DAYLIGHT
BEGIN:STANDARD
TZOFFSETFROM:+0300
TZOFFSETTO:+0200
TZNAME:EET
DTSTART:20261025T010000
END:STANDARD
BEGIN:DAYLIGHT
TZOFFSETFROM:+0200
TZOFFSETTO:+0300
TZNAME:EEST
DTSTART:20270328T010000
END:DAYLIGHT
BEGIN:STANDARD
TZOFFSETFROM:+0300
TZOFFSETTO:+0200
TZNAME:EET
DTSTART:20271031T010000
END:STANDARD
END:VTIMEZONE
BEGIN:VEVENT
DTSTART;TZID=Europe/Helsinki:20260219T160000
DTEND;TZID=Europe/Helsinki:20260219T220000
DTSTAMP:20260425T024632
CREATED:20260202T125158Z
LAST-MODIFIED:20260202T125158Z
UID:4974-1771516800-1771538400@kpcpetrovac.com
SUMMARY:Играни филм "СВАДБА"
DESCRIPTION:Четвртак 19. фебруар 2026. године у  16:00\, 18:00 и 20:00 часова\, пројекције хит играног филма „СВАДБА“. \nПРОДАЈА УЛАЗНИЦА НА ДАН ПРОЈЕКЦИЈЕ ОД 14:00 ЧАСОВА. \nЦена улазнице 400 динара. \nОпис филма:Познати хрватски привредник на свој рођендан сазнаје да је пред банкротом. У канцеларију му улази породица са тортом и тамбурашима\, а у исто време зове га ћерка која студира у Лондону и уз честитку му саопшти да је трудна. Отац детета је син српског министра спољних послова. У стилу пунокврног балканског анти-ром-цома\, испреплићући хумор\, топлину и напетост\, „Свадба“ прати причу о две породице чији однос стално плеше између топле породичне приче и међународног инцидента. \nРежисер: Игор Шереги\nУлоге: Драган Бјелогрлић\, Рене Биторајац\, Весна Тривалић\, Марко Грабеж\, Линда Бегоња\, Андјелка Стевић Жугић\, Роко Сикавица\, Ника Грбеља\, Јелисавета Сека Саблић
URL:https://kpcpetrovac.com/dogadjaj/igrani-film-svadba/
LOCATION:Сала КПЦ\, Петра Добрњца 179\, Петровац на Млави
CATEGORIES:Биоскоп,Филмови
ATTACH;FMTTYPE=image/jpeg:https://kpcpetrovac.com/wp-content/uploads/2026/02/svadba-datum.jpg
ORGANIZER;CN="%D0%9A%D1%83%D0%BB%D1%82%D1%83%D1%80%D0%BD%D0%BE %D0%BF%D1%80%D0%BE%D1%81%D0%B2%D0%B5%D1%82%D0%BD%D0%B8 %D1%86%D0%B5%D0%BD%D1%82%D0%B0%D1%80 '%D0%9F%D0%B5%D1%82%D1%80%D0%BE%D0%B2%D0%B0%D1%86 %D0%BD%D0%B0 %D0%9C%D0%BB%D0%B0%D0%B2%D0%B8'":MAILTO:kpcpetrovac@gmail.com
END:VEVENT
END:VCALENDAR