BEGIN:VCALENDAR
VERSION:2.0
PRODID:-//Културно просветни центар &quot;Петровац на Млави&quot; - ECPv6.15.17//NONSGML v1.0//EN
CALSCALE:GREGORIAN
METHOD:PUBLISH
X-WR-CALNAME:Културно просветни центар &quot;Петровац на Млави&quot;
X-ORIGINAL-URL:https://kpcpetrovac.com
X-WR-CALDESC:Events for Културно просветни центар &quot;Петровац на Млави&quot;
REFRESH-INTERVAL;VALUE=DURATION:PT1H
X-Robots-Tag:noindex
X-PUBLISHED-TTL:PT1H
BEGIN:VTIMEZONE
TZID:Europe/Helsinki
BEGIN:DAYLIGHT
TZOFFSETFROM:+0200
TZOFFSETTO:+0300
TZNAME:EEST
DTSTART:20240331T010000
END:DAYLIGHT
BEGIN:STANDARD
TZOFFSETFROM:+0300
TZOFFSETTO:+0200
TZNAME:EET
DTSTART:20241027T010000
END:STANDARD
BEGIN:DAYLIGHT
TZOFFSETFROM:+0200
TZOFFSETTO:+0300
TZNAME:EEST
DTSTART:20250330T010000
END:DAYLIGHT
BEGIN:STANDARD
TZOFFSETFROM:+0300
TZOFFSETTO:+0200
TZNAME:EET
DTSTART:20251026T010000
END:STANDARD
BEGIN:DAYLIGHT
TZOFFSETFROM:+0200
TZOFFSETTO:+0300
TZNAME:EEST
DTSTART:20260329T010000
END:DAYLIGHT
BEGIN:STANDARD
TZOFFSETFROM:+0300
TZOFFSETTO:+0200
TZNAME:EET
DTSTART:20261025T010000
END:STANDARD
END:VTIMEZONE
BEGIN:VEVENT
DTSTART;TZID=Europe/Helsinki:20251203T180000
DTEND;TZID=Europe/Helsinki:20251203T193000
DTSTAMP:20260425T060439
CREATED:20251126T200652Z
LAST-MODIFIED:20251216T112420Z
UID:4817-1764784800-1764790200@kpcpetrovac.com
SUMMARY:Анимирани филм "ДЕЧАК ДЕЛФИН 2"
DESCRIPTION:Среда 3. децембар 2025. године у  20.00 часова\, анимирани филм „ДЕЧАК ДЕЛФИН 2“. \nПРОДАЈА УЛАЗНИЦА САТ ВРЕМЕНА ПРЕ ПОЧЕТКА ПРОЈЕКЦИЈЕ У ДОМУ КУЛТУРЕ. \nЦена улазнице 400 динара. \nОпис филма:У анимираном филму Дечак делфин 2\, млади херој мора и верни морнар неуморно се боре против морских чудовишта. \nЊихово путовање се изненада мења када Мажид пронађе поруку у боци која открива локацију мистериозног напитка. \nКрећући на пут морнаревим бродом\, напада их дивљи кит\, а дечак делфин и његови верни сапутници храбро крећу у спасилачку мисију. Истовремено\, стиже вест да су пронађени трагови давно изгубљеног дечаковог оца. Вођен жељом да открије своју прошлост\, дечак делфин прати трагове до тајанствене подводне пећине\, где га чека откриће које ће променити његов живот.
URL:https://kpcpetrovac.com/dogadjaj/animirani-film-decak-delfin-2/
LOCATION:Сала КПЦ\, Петра Добрњца 179\, Петровац на Млави
CATEGORIES:Биоскоп,Филмови
ATTACH;FMTTYPE=image/jpeg:https://kpcpetrovac.com/wp-content/uploads/2025/11/kpc-decak-delfin-2.jpg
ORGANIZER;CN="%D0%9A%D1%83%D0%BB%D1%82%D1%83%D1%80%D0%BD%D0%BE %D0%BF%D1%80%D0%BE%D1%81%D0%B2%D0%B5%D1%82%D0%BD%D0%B8 %D1%86%D0%B5%D0%BD%D1%82%D0%B0%D1%80 '%D0%9F%D0%B5%D1%82%D1%80%D0%BE%D0%B2%D0%B0%D1%86 %D0%BD%D0%B0 %D0%9C%D0%BB%D0%B0%D0%B2%D0%B8'":MAILTO:kpcpetrovac@gmail.com
END:VEVENT
BEGIN:VEVENT
DTSTART;TZID=Europe/Helsinki:20251203T200000
DTEND;TZID=Europe/Helsinki:20251203T220000
DTSTAMP:20260425T060439
CREATED:20251126T200429Z
LAST-MODIFIED:20251216T112432Z
UID:4812-1764792000-1764799200@kpcpetrovac.com
SUMMARY:Играни филм "ХАЈДУК У БЕОГРАДУ"
DESCRIPTION:Среда 3. децембар 2025. године у  20.00 часова\, играни филм „ХАЈДУК У БЕОГРАДУ“. \nПРОДАЈА УЛАЗНИЦА САТ ВРЕМЕНА ПРЕ ПОЧЕТКА ПРОЈЕКЦИЈЕ У ДОМУ КУЛТУРЕ. \nЦена улазнице 400 динара. \nОпис филма:Глигорије Пецикоза Хајдук долази из села у Београд и полази у осми разред. Труди се да буде прихваћен и као изванредан кошаркаш и као добар друг и као одличан ђак и као одговоран син. Растрзан између нових искустава и осећања\, Хајдук ће се носити са разним препрекама и открити да постоји сила која све може да промени и узбурка: љубав… \nРежисер:\nМилан Тодоровић \nУлоге:\nТодор Јовановић\, Драган Мићановић\, Слобода Мићаловић\, Ана Лечић\, Никола Којо\, Срђан Тимаров\, Павле Јеринић\, Милена Предић\, Јелица Сретеновић
URL:https://kpcpetrovac.com/dogadjaj/igrani-film-hajduk-u-beogradu/
LOCATION:Сала КПЦ\, Петра Добрњца 179\, Петровац на Млави
CATEGORIES:Биоскоп,Филмови
ATTACH;FMTTYPE=image/jpeg:https://kpcpetrovac.com/wp-content/uploads/2025/11/kpc-hajduk-u-beogradu.jpg
ORGANIZER;CN="%D0%9A%D1%83%D0%BB%D1%82%D1%83%D1%80%D0%BD%D0%BE %D0%BF%D1%80%D0%BE%D1%81%D0%B2%D0%B5%D1%82%D0%BD%D0%B8 %D1%86%D0%B5%D0%BD%D1%82%D0%B0%D1%80 '%D0%9F%D0%B5%D1%82%D1%80%D0%BE%D0%B2%D0%B0%D1%86 %D0%BD%D0%B0 %D0%9C%D0%BB%D0%B0%D0%B2%D0%B8'":MAILTO:kpcpetrovac@gmail.com
END:VEVENT
BEGIN:VEVENT
DTSTART;TZID=Europe/Helsinki:20251221T160000
DTEND;TZID=Europe/Helsinki:20251221T180000
DTSTAMP:20260425T060439
CREATED:20251211T161253Z
LAST-MODIFIED:20251216T112319Z
UID:4825-1766332800-1766340000@kpcpetrovac.com
SUMMARY:Анимирани филм "ДЕЧАК ДЕЛФИН 2"
DESCRIPTION:Недеља 21. децембар 2025. године у  16.00 часова\, анимирани филм „ДЕЧАК ДЕЛФИН 2“. \nПРОДАЈА УЛАЗНИЦА САТ ВРЕМЕНА ПРЕ ПОЧЕТКА ПРОЈЕКЦИЈЕ У ДОМУ КУЛТУРЕ. \nЦена улазнице 400 динара. \nОпис филма:У анимираном филму Дечак делфин 2\, млади херој мора и верни морнар неуморно се боре против морских чудовишта. \nЊихово путовање се изненада мења када Мажид пронађе поруку у боци која открива локацију мистериозног напитка. \nКрећући на пут морнаревим бродом\, напада их дивљи кит\, а дечак делфин и његови верни сапутници храбро крећу у спасилачку мисију. Истовремено\, стиже вест да су пронађени трагови давно изгубљеног дечаковог оца. Вођен жељом да открије своју прошлост\, дечак делфин прати трагове до тајанствене подводне пећине\, где га чека откриће које ће променити његов живот.
URL:https://kpcpetrovac.com/dogadjaj/animirani-film-decak-delfin-2-2/
LOCATION:Сала КПЦ\, Петра Добрњца 179\, Петровац на Млави
CATEGORIES:Биоскоп,Филмови
ATTACH;FMTTYPE=image/jpeg:https://kpcpetrovac.com/wp-content/uploads/2025/12/decak-delfin-kpc.jpg
ORGANIZER;CN="%D0%9A%D1%83%D0%BB%D1%82%D1%83%D1%80%D0%BD%D0%BE %D0%BF%D1%80%D0%BE%D1%81%D0%B2%D0%B5%D1%82%D0%BD%D0%B8 %D1%86%D0%B5%D0%BD%D1%82%D0%B0%D1%80 '%D0%9F%D0%B5%D1%82%D1%80%D0%BE%D0%B2%D0%B0%D1%86 %D0%BD%D0%B0 %D0%9C%D0%BB%D0%B0%D0%B2%D0%B8'":MAILTO:kpcpetrovac@gmail.com
END:VEVENT
BEGIN:VEVENT
DTSTART;TZID=Europe/Helsinki:20251221T180000
DTEND;TZID=Europe/Helsinki:20251221T220000
DTSTAMP:20260425T060439
CREATED:20251211T161141Z
LAST-MODIFIED:20251216T112326Z
UID:4821-1766340000-1766354400@kpcpetrovac.com
SUMMARY:Играни филм "ПОВРАТАК ЖИКИНЕ ДИНАСТИЈЕ"
DESCRIPTION:Недеља 21. децембар 2025. године у  18.00 и 20.00 часова\, пројекције играног филма „ПОВРАТАК ЖИКИНЕ ДИНАСТИЈЕ“. \nПРОДАЈА УЛАЗНИЦА САТ ВРЕМЕНА ПРЕ ПОЧЕТКА ПРОЈЕКЦИЈЕ У ДОМУ КУЛТУРЕ. \nЦена улазнице 400 динара. \nОпис филма:Никола Којо се враћа лику Мише Павловића после више од 30 година. Миши у Србију долазе синови које дуго није видео\, јер живе са Наташом у Москви\, али када стигну момци који носе имена својих прадеда – Жике и Милана\, почиње нова луда година\, препуна смеха\, авантуре\, али и породичних вредности. \nРежисер: Милан Коњевић \nУлоге: Никола Којо\, Данијела Димитровска\, Никола Брун\, Гаврило Иванковић Срђан Тимаров\, Младен Совиљ\, Јово Максић\, Весна Чипчић\, Владимир Петровић\, Гала Виденовић\, Слободан Бода Нинковић
URL:https://kpcpetrovac.com/dogadjaj/igrani-film-povratak-zikine-dinastije/
LOCATION:Сала КПЦ\, Петра Добрњца 179\, Петровац на Млави
CATEGORIES:Биоскоп,Филмови
ATTACH;FMTTYPE=image/jpeg:https://kpcpetrovac.com/wp-content/uploads/2025/12/povratak-zikine-dinastije-kpc.jpg
ORGANIZER;CN="%D0%9A%D1%83%D0%BB%D1%82%D1%83%D1%80%D0%BD%D0%BE %D0%BF%D1%80%D0%BE%D1%81%D0%B2%D0%B5%D1%82%D0%BD%D0%B8 %D1%86%D0%B5%D0%BD%D1%82%D0%B0%D1%80 '%D0%9F%D0%B5%D1%82%D1%80%D0%BE%D0%B2%D0%B0%D1%86 %D0%BD%D0%B0 %D0%9C%D0%BB%D0%B0%D0%B2%D0%B8'":MAILTO:kpcpetrovac@gmail.com
END:VEVENT
BEGIN:VEVENT
DTSTART;TZID=Europe/Helsinki:20251228T120000
DTEND;TZID=Europe/Helsinki:20251228T133000
DTSTAMP:20260425T060439
CREATED:20251223T144658Z
LAST-MODIFIED:20251223T144658Z
UID:4926-1766923200-1766928600@kpcpetrovac.com
SUMMARY:Анимирани филм "ПРИЧА О ЧАРОБНОМ МАЧУ"
DESCRIPTION:Недеља 28. децембар 2025. године у  12.00 часова\, очекује вас пројекција анимираног филма „ПРИЧА О ЧАРОБНОМ МАЧУ“. \nУлаз је бесплатан. \nОпис филма:Некада давно у далеком краљевству живео је млади ратник Коста и његов најбољи пријатељ и саборац Чаробни мач\, мач који може да говори по имену Чудош. Коста са мачем креће на пут пун различитих изазова како би пронашао опасно чудовиште – Белу сенку. \nПре много година\, Коста се заклео да ће осветити своје најмилије\, који су страдали од руке Беле сенке. \nНа том путу\, пуном разних искушења упознају младу чаробницу Фреју која им се придружује у борби да спасу свет и докажу да је права љубав вечна.
URL:https://kpcpetrovac.com/dogadjaj/animirani-film-prica-o-carobnom-macu/
LOCATION:Дом културе\, Петра Добрњца 179\, Петровац на Млави
CATEGORIES:Биоскоп,Филмови
ATTACH;FMTTYPE=image/jpeg:https://kpcpetrovac.com/wp-content/uploads/2025/12/bioskop-carobni-mac.jpg
ORGANIZER;CN="%D0%9A%D1%83%D0%BB%D1%82%D1%83%D1%80%D0%BD%D0%BE %D0%BF%D1%80%D0%BE%D1%81%D0%B2%D0%B5%D1%82%D0%BD%D0%B8 %D1%86%D0%B5%D0%BD%D1%82%D0%B0%D1%80 '%D0%9F%D0%B5%D1%82%D1%80%D0%BE%D0%B2%D0%B0%D1%86 %D0%BD%D0%B0 %D0%9C%D0%BB%D0%B0%D0%B2%D0%B8'":MAILTO:kpcpetrovac@gmail.com
END:VEVENT
END:VCALENDAR